BEGIN:VCALENDAR
VERSION:2.0
PRODID:-//hacksw/handcal//NONSGML v1.0//EN
CALSCALE:GREGORIAN
METHOD:REQUEST
BEGIN:VEVENT
UID:69eaf609b72e2
SEQUENCE:0
DESCRIPTION:Wiosenna Aukcja Dzieł Sztuki (Na Żywo)
DTSTART:20260403T190000Z
DTEND:20260430T210000Z
SUMMARY:<h3>&nbsp\;</h3>

<h4><strong>Prelicytacja trwa<br />
do 30.04.2026 godz. 19:00</strong></h4>

<h4>&nbsp\;</h4>

<h4><strong>Aukcja na żywo rozpocznie się<br />
30.04.2026 godz. 19:00</strong></h4>

<p>&nbsp\;</p>

<p><strong>Wiosenna Aukcja Dzieł Sztuki </strong>to prezentacja realizacji polskiej sztuki powojennej i wsp&oacute\;łczesnej\, łącząca uznane nazwiska z artystami aktywnie kształtującymi język wizualny teraźniejszości.<br />
<br />
Trzon aukcji stanowią monumentalne kompozycja <strong>Edwarda Dwurnika</strong> i portret <strong>Jerzego Nowosielskiego</strong>. Akcent katalogu stanowią dzieła wsp&oacute\;łczesnych surrealist&oacute\;w &ndash\; <strong>Tomasza Sętowskiego</strong> oraz <strong>Rafała Olbińskiego.</strong> Uzupełnieniem pozostają prace <strong>Stanisława Fijałkowskiego</strong> oraz <strong>Kamili Kowalik</strong>.<br />
<br />
Segment prac na papierze reprezentują <strong>Zdzisław Beksiński</strong> i <strong>Andrzej Strumiłło</strong>. Ofertę dopełnia rzeźba <strong>Igora Mitoraja</strong>.</p>

<p>&nbsp\;</p>

<p><strong>Wszystkie obiekty można obejrzeć w naszej galerii w Warszawie po uprzednim um&oacute\;wieniu się.</strong></p>

<p><strong>Kontakt z koordynatorem aukcji:</strong></p>

<p>Łukasz Kuca<br />
<a href="tel:+48 604 238 369">+48 604 238 369</a><br />
<a href="mailto:contact@artbidy.com?subject=Kontakt%20w%20sprawie%20aukcji">contact@artbidy.com</a></p>
LOCATION:
URL:https://artbidy.com/pl/aukcje/wiosenna-aukcja-dziel-sztuki-na-zywo/GXEGBRL
DTSTAMP:20260424T064809Z
END:VEVENT
END:VCALENDAR